BEGIN:VCALENDAR
VERSION:2.0
PRODID:-//hacksw/handcal//NONSGML v1.0//EN
BEGIN:VEVENT
SUMMARY:Entrainement Dirige Adultes
UID:74b73a61-f787-4912-85ce-e6b5f60054ea
DTSTART:20260312T230000Z
DTEND:20260313T230000Z
LOCATION:Localisation   
CATEGORIES:Entrainement
STATUS:
URL;VALUE=URI:https://acsl.sportsregions.fr/evenements/2026/03/13/entrainement-dirige-adultes-2359024
END:VEVENT
END:VCALENDAR
