BEGIN:VCALENDAR
VERSION:2.0
PRODID:-//hacksw/handcal//NONSGML v1.0//EN
BEGIN:VEVENT
SUMMARY:Entrainement Dirige Adultes
UID:6f2c0ee2-6f39-4990-b364-0fd52428207e
DTSTART:20260326T230000Z
DTEND:20260327T230000Z
LOCATION:Localisation   
CATEGORIES:Entrainement
STATUS:
URL;VALUE=URI:https://acsl.sportsregions.fr/evenements/2026/03/27/entrainement-dirige-adultes-2359025
END:VEVENT
END:VCALENDAR
